Package: CONSTANd Version: 1.15.0 Command: /Library/Frameworks/R.framework/Resources/bin/R CMD INSTALL CONSTANd StartedAt: 2025-02-04 15:03:44 -0500 (Tue, 04 Feb 2025) EndedAt: 2025-02-04 15:04:14 -0500 (Tue, 04 Feb 2025) EllapsedTime: 30.0 seconds RetCode: 0 Status: OK