Package: CONSTANd Version: 1.15.0 Command: /home/biocbuild/bbs-3.21-bioc/R/bin/R CMD INSTALL CONSTANd StartedAt: 2025-02-09 15:02:36 -0500 (Sun, 09 Feb 2025) EndedAt: 2025-02-09 15:02:40 -0500 (Sun, 09 Feb 2025) EllapsedTime: 4.0 seconds RetCode: 0 Status: OK