Package: CONSTANd Version: 1.15.0 Command: chmod a+r CONSTANd -R && E:\biocbuild\bbs-3.21-bioc\R\bin\R.exe CMD build --keep-empty-dirs --no-resave-data CONSTANd StartedAt: 2025-02-09 18:02:45 -0500 (Sun, 09 Feb 2025) EndedAt: 2025-02-09 18:03:23 -0500 (Sun, 09 Feb 2025) EllapsedTime: 37.6 seconds RetCode: 0 Status: OK PackageFile: CONSTANd_1.15.0.tar.gz PackageFileSize: 1.669 MiB