Package: CONSTANd Version: 1.15.0 Command: E:\biocbuild\bbs-3.21-bioc\R\bin\R.exe CMD check --no-multiarch --install=check:CONSTANd.install-out.txt --library=E:\biocbuild\bbs-3.21-bioc\R\library --no-vignettes --timings CONSTANd_1.15.0.tar.gz StartedAt: 2025-02-05 00:23:50 -0500 (Wed, 05 Feb 2025) EndedAt: 2025-02-05 00:24:14 -0500 (Wed, 05 Feb 2025) EllapsedTime: 24.0 seconds RetCode: 0 Status: OK CheckDir: CONSTANd.Rcheck Warnings: 0