Package: CONSTANd Version: 1.15.0 Command: E:\biocbuild\bbs-3.21-bioc\R\bin\R.exe CMD INSTALL CONSTANd StartedAt: 2025-02-04 15:18:00 -0500 (Tue, 04 Feb 2025) EndedAt: 2025-02-04 15:18:03 -0500 (Tue, 04 Feb 2025) EllapsedTime: 3.7 seconds RetCode: 0 Status: OK