Package: COSNet Version: 1.41.0 Command: rm -rf COSNet.buildbin-libdir && mkdir COSNet.buildbin-libdir && /Users/biocbuild/BBS/utils/build-universal.sh COSNet_1.41.0.tar.gz /Library/Frameworks/R.framework/Resources/bin/R COSNet.buildbin-libdir StartedAt: 2025-02-09 22:10:36 -0500 (Sun, 09 Feb 2025) EndedAt: 2025-02-09 22:10:38 -0500 (Sun, 09 Feb 2025) EllapsedTime: 2.0 seconds RetCode: 0 Status: OK PackageFile: COSNet_1.41.0.tgz PackageFileSize: 561 KiB