Package: COSNet Version: 1.41.0 Command: /Library/Frameworks/R.framework/Resources/bin/R CMD build --keep-empty-dirs --no-resave-data COSNet StartedAt: 2025-02-03 16:34:29 -0500 (Mon, 03 Feb 2025) EndedAt: 2025-02-03 16:38:43 -0500 (Mon, 03 Feb 2025) EllapsedTime: 253.8 seconds RetCode: 0 Status: OK PackageFile: COSNet_1.41.0.tar.gz PackageFileSize: 520 KiB