Package: COSNet Version: 1.41.0 Command: /home/biocbuild/R/R/bin/R CMD build --keep-empty-dirs --no-resave-data COSNet StartedAt: 2025-01-28 22:07:59 -0000 (Tue, 28 Jan 2025) EndedAt: 2025-01-28 22:15:43 -0000 (Tue, 28 Jan 2025) EllapsedTime: 464.2 seconds RetCode: 0 Status: OK PackageFile: COSNet_1.41.0.tar.gz PackageFileSize: 506.1 KiB