Package: COSNet Version: 1.41.0 Command: /home/biocbuild/R/R/bin/R CMD check --install=check:COSNet.install-out.txt --library=/home/biocbuild/R/R/site-library --no-vignettes --timings COSNet_1.41.0.tar.gz StartedAt: 2025-01-28 09:30:48 -0000 (Tue, 28 Jan 2025) EndedAt: 2025-01-28 09:31:40 -0000 (Tue, 28 Jan 2025) EllapsedTime: 52.0 seconds RetCode: 0 Status: WARNINGS CheckDir: COSNet.Rcheck Warnings: 1