Package: COSNet Version: 1.41.0 Command: /Library/Frameworks/R.framework/Resources/bin/R CMD check --install=check:COSNet.install-out.txt --library=/Library/Frameworks/R.framework/Resources/library --no-vignettes --timings COSNet_1.41.0.tar.gz StartedAt: 2025-02-03 19:48:36 -0500 (Mon, 03 Feb 2025) EndedAt: 2025-02-03 19:49:21 -0500 (Mon, 03 Feb 2025) EllapsedTime: 44.8 seconds RetCode: 0 Status: WARNINGS CheckDir: COSNet.Rcheck Warnings: 1