Package: COSNet Version: 1.41.0 Command: /Library/Frameworks/R.framework/Resources/bin/R CMD INSTALL COSNet StartedAt: 2025-02-09 15:05:24 -0500 (Sun, 09 Feb 2025) EndedAt: 2025-02-09 15:05:54 -0500 (Sun, 09 Feb 2025) EllapsedTime: 29.6 seconds RetCode: 0 Status: OK