Package: COSNet Version: 1.41.0 Command: /home/biocbuild/bbs-3.21-bioc/R/bin/R CMD build --keep-empty-dirs --no-resave-data COSNet StartedAt: 2025-02-03 16:56:45 -0500 (Mon, 03 Feb 2025) EndedAt: 2025-02-03 17:01:05 -0500 (Mon, 03 Feb 2025) EllapsedTime: 259.3 seconds RetCode: 0 Status: OK PackageFile: COSNet_1.41.0.tar.gz PackageFileSize: 520 KiB