Package: COSNet Version: 1.41.0 Command: /home/biocbuild/bbs-3.21-bioc/R/bin/R CMD check --install=check:COSNet.install-out.txt --library=/home/biocbuild/bbs-3.21-bioc/R/site-library --timings COSNet_1.41.0.tar.gz StartedAt: 2025-02-03 21:23:21 -0500 (Mon, 03 Feb 2025) EndedAt: 2025-02-03 21:28:14 -0500 (Mon, 03 Feb 2025) EllapsedTime: 293.3 seconds RetCode: 0 Status: WARNINGS CheckDir: COSNet.Rcheck Warnings: 1