Package: COSNet Version: 1.41.0 Command: /home/biocbuild/bbs-3.21-bioc/R/bin/R CMD INSTALL COSNet StartedAt: 2025-02-09 15:07:36 -0500 (Sun, 09 Feb 2025) EndedAt: 2025-02-09 15:08:14 -0500 (Sun, 09 Feb 2025) EllapsedTime: 38.8 seconds RetCode: 0 Status: OK