Package: COSNet Version: 1.41.0 Command: rm -rf COSNet.buildbin-libdir && mkdir COSNet.buildbin-libdir && E:\biocbuild\bbs-3.21-bioc\R\bin\R.exe CMD INSTALL --build --library=COSNet.buildbin-libdir COSNet_1.41.0.tar.gz StartedAt: 2025-02-10 07:31:57 -0500 (Mon, 10 Feb 2025) EndedAt: 2025-02-10 07:32:07 -0500 (Mon, 10 Feb 2025) EllapsedTime: 10.1 seconds RetCode: 0 Status: OK PackageFile: COSNet_1.41.0.zip PackageFileSize: 332.3 KiB