Package: COSNet Version: 1.41.0 Command: chmod a+r COSNet -R && E:\biocbuild\bbs-3.21-bioc\R\bin\R.exe CMD build --keep-empty-dirs --no-resave-data COSNet StartedAt: 2025-02-03 18:17:09 -0500 (Mon, 03 Feb 2025) EndedAt: 2025-02-03 18:19:52 -0500 (Mon, 03 Feb 2025) EllapsedTime: 162.8 seconds RetCode: 0 Status: OK PackageFile: COSNet_1.41.0.tar.gz PackageFileSize: 285.4 KiB