Package: COSNet Version: 1.41.0 Command: E:\biocbuild\bbs-3.21-bioc\R\bin\R.exe CMD INSTALL COSNet StartedAt: 2025-02-09 15:21:52 -0500 (Sun, 09 Feb 2025) EndedAt: 2025-02-09 15:22:03 -0500 (Sun, 09 Feb 2025) EllapsedTime: 11.3 seconds RetCode: 0 Status: OK