Package: COTAN Version: 2.7.3 Command: /Library/Frameworks/R.framework/Resources/bin/R CMD build --keep-empty-dirs --no-resave-data COTAN StartedAt: 2025-02-09 15:59:20 -0500 (Sun, 09 Feb 2025) EndedAt: 2025-02-09 16:03:56 -0500 (Sun, 09 Feb 2025) EllapsedTime: 276.1 seconds RetCode: 0 Status: OK PackageFile: COTAN_2.7.3.tar.gz PackageFileSize: 10.65 MiB