Package: COTAN Version: 2.7.3 Command: /home/biocbuild/R/R/bin/R CMD build --keep-empty-dirs --no-resave-data COTAN StartedAt: 2025-01-28 22:08:18 -0000 (Tue, 28 Jan 2025) EndedAt: 2025-01-28 22:10:34 -0000 (Tue, 28 Jan 2025) EllapsedTime: 136.0 seconds RetCode: 1 Status: ERROR PackageFile: None PackageFileSize: NA