Package: COTAN Version: 2.7.3 Command: /home/biocbuild/R/R/bin/R CMD INSTALL COTAN StartedAt: 2025-01-29 20:28:12 -0000 (Wed, 29 Jan 2025) EndedAt: 2025-01-29 20:29:19 -0000 (Wed, 29 Jan 2025) EllapsedTime: 67.0 seconds RetCode: 0 Status: OK