Package: COTAN Version: 2.7.3 Command: /Library/Frameworks/R.framework/Resources/bin/R CMD check --install=check:COTAN.install-out.txt --library=/Library/Frameworks/R.framework/Resources/library --no-vignettes --timings COTAN_2.7.3.tar.gz StartedAt: 2025-02-04 19:46:22 -0500 (Tue, 04 Feb 2025) EndedAt: 2025-02-04 20:11:23 -0500 (Tue, 04 Feb 2025) EllapsedTime: 1501.8 seconds RetCode: 0 Status: OK CheckDir: COTAN.Rcheck Warnings: 0