############################################################################## ############################################################################## ### ### Running command: ### ### chmod a+r COTAN -R && E:\biocbuild\bbs-3.21-bioc\R\bin\R.exe CMD build --keep-empty-dirs --no-resave-data COTAN ### ############################################################################## ############################################################################## * checking for file 'COTAN/DESCRIPTION' ... OK * preparing 'COTAN': * checking DESCRIPTION meta-information ... OK * installing the package to build vignettes ----------------------------------- ERROR: dependency 'proj4' is not available for package 'COTAN' Perhaps try a variation of: install.packages('proj4') * removing 'E:/biocbuild/bbs-3.21-bioc/tmpdir/RtmpSCBWIk/Rinst126c03513fa5/COTAN' ----------------------------------- ERROR: package installation failed