Package: COTAN Version: 2.7.3 Command: chmod a+r COTAN -R && E:\biocbuild\bbs-3.21-bioc\R\bin\R.exe CMD build --keep-empty-dirs --no-resave-data COTAN StartedAt: 2025-02-04 18:03:26 -0500 (Tue, 04 Feb 2025) EndedAt: 2025-02-04 18:03:31 -0500 (Tue, 04 Feb 2025) EllapsedTime: 4.8 seconds RetCode: 1 Status: ERROR PackageFile: None PackageFileSize: NA