############################################################################## ############################################################################## ### ### Running command: ### ### E:\biocbuild\bbs-3.21-bioc\R\bin\R.exe CMD INSTALL COTAN ### ############################################################################## ############################################################################## * installing to library 'E:/biocbuild/bbs-3.21-bioc/R/library' ERROR: dependency 'proj4' is not available for package 'COTAN' Perhaps try a variation of: install.packages('proj4') * removing 'E:/biocbuild/bbs-3.21-bioc/R/library/COTAN'