Package: COTAN Version: 2.7.3 Command: E:\biocbuild\bbs-3.21-bioc\R\bin\R.exe CMD INSTALL COTAN StartedAt: 2025-02-04 16:45:29 -0500 (Tue, 04 Feb 2025) EndedAt: 2025-02-04 16:45:30 -0500 (Tue, 04 Feb 2025) EllapsedTime: 1.0 seconds RetCode: 1 Status: ERROR