Package: CRISPRseek Version: 1.47.1 Maintainer: Lihua Julie Zhu MaintainerEmail: julie.zhu at umassmed.edu git_url: https://git.bioconductor.org/packages/CRISPRseek git_branch: devel git_last_commit: aafda1e git_last_commit_date: 2025-02-03 23:13:55 -0500 (Mon, 03 Feb 2025)