Package: CRISPRseek Version: 1.47.1 Command: /Library/Frameworks/R.framework/Resources/bin/R CMD check --install=check:CRISPRseek.install-out.txt --library=/Library/Frameworks/R.framework/Resources/library --no-vignettes --timings CRISPRseek_1.47.1.tar.gz StartedAt: 2025-02-04 18:44:17 -0500 (Tue, 04 Feb 2025) EndedAt: 2025-02-04 18:56:02 -0500 (Tue, 04 Feb 2025) EllapsedTime: 705.2 seconds RetCode: 1 Status: ERROR CheckDir: CRISPRseek.Rcheck Warnings: NA