Package: CRISPRseek Version: 1.47.1 Command: /home/biocbuild/R/R/bin/R CMD build --keep-empty-dirs --no-resave-data CRISPRseek StartedAt: 2025-01-28 22:10:24 -0000 (Tue, 28 Jan 2025) EndedAt: 2025-01-28 22:11:23 -0000 (Tue, 28 Jan 2025) EllapsedTime: 59.0 seconds RetCode: 1 Status: ERROR PackageFile: None PackageFileSize: NA