Package: CRISPRseek Version: 1.47.0 Command: /home/biocbuild/R/R/bin/R CMD check --install=check:CRISPRseek.install-out.txt --library=/home/biocbuild/R/R/site-library --no-vignettes --timings CRISPRseek_1.47.0.tar.gz StartedAt: 2025-01-18 06:25:34 -0000 (Sat, 18 Jan 2025) EndedAt: 2025-01-18 07:00:42 -0000 (Sat, 18 Jan 2025) EllapsedTime: 2107.8 seconds RetCode: 0 Status: OK CheckDir: CRISPRseek.Rcheck Warnings: 0