Package: CRISPRseek Version: 1.47.1 Command: /Library/Frameworks/R.framework/Resources/bin/R CMD build --keep-empty-dirs --no-resave-data CRISPRseek StartedAt: 2025-02-04 16:21:58 -0500 (Tue, 04 Feb 2025) EndedAt: 2025-02-04 16:24:32 -0500 (Tue, 04 Feb 2025) EllapsedTime: 154.3 seconds RetCode: 0 Status: OK PackageFile: CRISPRseek_1.47.1.tar.gz PackageFileSize: 11.84 MiB