Package: CRISPRseek Version: 1.47.1 Command: /home/biocbuild/bbs-3.21-bioc/R/bin/R CMD build --keep-empty-dirs --no-resave-data CRISPRseek StartedAt: 2025-02-04 16:47:35 -0500 (Tue, 04 Feb 2025) EndedAt: 2025-02-04 16:50:09 -0500 (Tue, 04 Feb 2025) EllapsedTime: 153.2 seconds RetCode: 0 Status: OK PackageFile: CRISPRseek_1.47.1.tar.gz PackageFileSize: 11.84 MiB