Package: CRISPRseek Version: 1.47.1 Command: chmod a+r CRISPRseek -R && E:\biocbuild\bbs-3.21-bioc\R\bin\R.exe CMD build --keep-empty-dirs --no-resave-data CRISPRseek StartedAt: 2025-02-04 18:04:39 -0500 (Tue, 04 Feb 2025) EndedAt: 2025-02-04 18:08:21 -0500 (Tue, 04 Feb 2025) EllapsedTime: 222.2 seconds RetCode: 0 Status: OK PackageFile: CRISPRseek_1.47.1.tar.gz PackageFileSize: 11.84 MiB