Package: CRISPRseek Version: 1.47.1 Command: E:\biocbuild\bbs-3.21-bioc\R\bin\R.exe CMD check --no-multiarch --install=check:CRISPRseek.install-out.txt --library=E:\biocbuild\bbs-3.21-bioc\R\library --no-vignettes --timings CRISPRseek_1.47.1.tar.gz StartedAt: 2025-02-05 00:29:25 -0500 (Wed, 05 Feb 2025) EndedAt: 2025-02-05 01:09:25 -0500 (Wed, 05 Feb 2025) EllapsedTime: 2400.0 seconds RetCode: None Status: TIMEOUT CheckDir: CRISPRseek.Rcheck Warnings: NA