Package: CRISPRseek Version: 1.47.1 Command: E:\biocbuild\bbs-3.21-bioc\R\bin\R.exe CMD INSTALL CRISPRseek StartedAt: 2025-02-04 16:50:28 -0500 (Tue, 04 Feb 2025) EndedAt: 2025-02-04 16:52:18 -0500 (Tue, 04 Feb 2025) EllapsedTime: 110.4 seconds RetCode: 0 Status: OK