Package: CSAR Version: 1.59.0 Command: /Library/Frameworks/R.framework/Resources/bin/R CMD check --install=check:CSAR.install-out.txt --library=/Library/Frameworks/R.framework/Resources/library --no-vignettes --timings CSAR_1.59.0.tar.gz StartedAt: 2025-02-09 18:44:04 -0500 (Sun, 09 Feb 2025) EndedAt: 2025-02-09 18:45:06 -0500 (Sun, 09 Feb 2025) EllapsedTime: 62.7 seconds RetCode: 0 Status: OK CheckDir: CSAR.Rcheck Warnings: 0