Package: CSAR Version: 1.59.0 Command: /home/biocbuild/R/R/bin/R CMD build --keep-empty-dirs --no-resave-data CSAR StartedAt: 2025-01-28 22:11:09 -0000 (Tue, 28 Jan 2025) EndedAt: 2025-01-28 22:11:44 -0000 (Tue, 28 Jan 2025) EllapsedTime: 35.0 seconds RetCode: 0 Status: OK PackageFile: CSAR_1.59.0.tar.gz PackageFileSize: 222.1 KiB