Package: CSAR Version: 1.59.0 Command: /Library/Frameworks/R.framework/Resources/bin/R CMD INSTALL CSAR StartedAt: 2025-02-09 15:09:59 -0500 (Sun, 09 Feb 2025) EndedAt: 2025-02-09 15:10:15 -0500 (Sun, 09 Feb 2025) EllapsedTime: 15.1 seconds RetCode: 0 Status: OK