Package: CSAR Version: 1.59.0 Command: chmod a+r CSAR -R && E:\biocbuild\bbs-3.21-bioc\R\bin\R.exe CMD build --keep-empty-dirs --no-resave-data CSAR StartedAt: 2025-02-09 18:06:40 -0500 (Sun, 09 Feb 2025) EndedAt: 2025-02-09 18:07:22 -0500 (Sun, 09 Feb 2025) EllapsedTime: 42.6 seconds RetCode: 0 Status: OK PackageFile: CSAR_1.59.0.tar.gz PackageFileSize: 112.6 KiB