Package: CSSQ Version: 1.19.0 Command: rm -rf CSSQ.buildbin-libdir && mkdir CSSQ.buildbin-libdir && /Users/biocbuild/BBS/utils/build-universal.sh CSSQ_1.19.0.tar.gz /Library/Frameworks/R.framework/Resources/bin/R CSSQ.buildbin-libdir StartedAt: 2025-02-10 00:48:49 -0500 (Mon, 10 Feb 2025) EndedAt: 2025-02-10 00:49:38 -0500 (Mon, 10 Feb 2025) EllapsedTime: 49.7 seconds RetCode: 0 Status: OK PackageFile: CSSQ_1.19.0.tgz PackageFileSize: 925.9 KiB