Package: CSSQ Version: 1.19.0 Command: /Library/Frameworks/R.framework/Resources/bin/R CMD build --keep-empty-dirs --no-resave-data CSSQ StartedAt: 2025-02-09 16:25:25 -0500 (Sun, 09 Feb 2025) EndedAt: 2025-02-09 16:26:34 -0500 (Sun, 09 Feb 2025) EllapsedTime: 68.7 seconds RetCode: 0 Status: OK PackageFile: CSSQ_1.19.0.tar.gz PackageFileSize: 866 KiB