Package: CSSQ Version: 1.19.0 Command: /Library/Frameworks/R.framework/Resources/bin/R CMD check --install=check:CSSQ.install-out.txt --library=/Library/Frameworks/R.framework/Resources/library --no-vignettes --timings CSSQ_1.19.0.tar.gz StartedAt: 2025-02-09 20:02:10 -0500 (Sun, 09 Feb 2025) EndedAt: 2025-02-09 20:06:56 -0500 (Sun, 09 Feb 2025) EllapsedTime: 286.0 seconds RetCode: 0 Status: OK CheckDir: CSSQ.Rcheck Warnings: 0