Package: CSSQ Version: 1.19.0 Command: /home/biocbuild/bbs-3.21-bioc/R/bin/R CMD build --keep-empty-dirs --no-resave-data CSSQ StartedAt: 2025-02-09 16:49:59 -0500 (Sun, 09 Feb 2025) EndedAt: 2025-02-09 16:50:56 -0500 (Sun, 09 Feb 2025) EllapsedTime: 57.1 seconds RetCode: 0 Status: OK PackageFile: CSSQ_1.19.0.tar.gz PackageFileSize: 866 KiB