Package: CSSQ Version: 1.19.0 Command: /home/biocbuild/bbs-3.21-bioc/R/bin/R CMD check --install=check:CSSQ.install-out.txt --library=/home/biocbuild/bbs-3.21-bioc/R/site-library --timings CSSQ_1.19.0.tar.gz StartedAt: 2025-02-09 21:19:46 -0500 (Sun, 09 Feb 2025) EndedAt: 2025-02-09 21:24:29 -0500 (Sun, 09 Feb 2025) EllapsedTime: 282.3 seconds RetCode: 0 Status: OK CheckDir: CSSQ.Rcheck Warnings: 0