Package: CSSQ Version: 1.19.0 Command: rm -rf CSSQ.buildbin-libdir && mkdir CSSQ.buildbin-libdir && E:\biocbuild\bbs-3.21-bioc\R\bin\R.exe CMD INSTALL --build --library=CSSQ.buildbin-libdir CSSQ_1.19.0.tar.gz StartedAt: 2025-02-05 07:43:56 -0500 (Wed, 05 Feb 2025) EndedAt: 2025-02-05 07:44:38 -0500 (Wed, 05 Feb 2025) EllapsedTime: 41.6 seconds RetCode: 0 Status: OK PackageFile: CSSQ_1.19.0.zip PackageFileSize: 930.8 KiB