Package: CSSQ Version: 1.19.0 Command: E:\biocbuild\bbs-3.21-bioc\R\bin\R.exe CMD INSTALL CSSQ StartedAt: 2025-02-04 15:58:41 -0500 (Tue, 04 Feb 2025) EndedAt: 2025-02-04 15:59:22 -0500 (Tue, 04 Feb 2025) EllapsedTime: 41.5 seconds RetCode: 0 Status: OK