Package: CTDquerier Version: 2.15.0 Maintainer: Xavier EscribĂ -Montagut MaintainerEmail: xavier.escriba at isglobal.org git_url: https://git.bioconductor.org/packages/CTDquerier git_branch: devel git_last_commit: b79a567 git_last_commit_date: 2024-10-29 10:56:39 -0500 (Tue, 29 Oct 2024)