Package: CTDquerier Version: 2.15.0 Command: /home/biocbuild/R/R/bin/R CMD build --keep-empty-dirs --no-resave-data CTDquerier StartedAt: 2025-01-28 22:11:44 -0000 (Tue, 28 Jan 2025) EndedAt: 2025-01-28 22:11:47 -0000 (Tue, 28 Jan 2025) EllapsedTime: 3.0 seconds RetCode: 0 Status: OK PackageFile: CTDquerier_2.15.0.tar.gz PackageFileSize: 2.803 MiB