Package: CTDquerier Version: 2.15.0 Command: rm -rf CTDquerier.buildbin-libdir && mkdir CTDquerier.buildbin-libdir && /Users/biocbuild/BBS/utils/build-universal.sh CTDquerier_2.15.0.tar.gz /Library/Frameworks/R.framework/Resources/bin/R CTDquerier.buildbin-libdir StartedAt: 2025-02-10 00:48:54 -0500 (Mon, 10 Feb 2025) EndedAt: 2025-02-10 00:49:07 -0500 (Mon, 10 Feb 2025) EllapsedTime: 12.8 seconds RetCode: 0 Status: OK PackageFile: CTDquerier_2.15.0.tgz PackageFileSize: 2.716 MiB