Package: CTDquerier Version: 2.15.0 Command: /Library/Frameworks/R.framework/Resources/bin/R CMD INSTALL CTDquerier StartedAt: 2025-02-09 15:13:28 -0500 (Sun, 09 Feb 2025) EndedAt: 2025-02-09 15:13:41 -0500 (Sun, 09 Feb 2025) EllapsedTime: 12.4 seconds RetCode: 0 Status: OK