Package: CTDquerier Version: 2.15.0 Command: /home/biocbuild/bbs-3.21-bioc/R/bin/R CMD build --keep-empty-dirs --no-resave-data CTDquerier StartedAt: 2025-02-09 16:50:10 -0500 (Sun, 09 Feb 2025) EndedAt: 2025-02-09 16:50:13 -0500 (Sun, 09 Feb 2025) EllapsedTime: 3.0 seconds RetCode: 0 Status: OK PackageFile: CTDquerier_2.15.0.tar.gz PackageFileSize: 2.803 MiB